BEGIN:VCALENDAR
VERSION:2.0
PRODID:icalendar-ruby
CALSCALE:GREGORIAN
METHOD:PUBLISH
BEGIN:VEVENT
DTSTAMP:20260423T103716Z
UID:166-653176@whiterockfellowship.com
DTSTART:20260713T230000Z
DTEND:20260716T003000Z
CLASS:PUBLIC
CREATED:20260413T134314
DESCRIPTION:White Rock Fellowship is excited about our 2026 VBS Adventure!
  \n\nJoin us as we Dive Deep into God's Truths\n\nThere will be games\, s
 nacks\, all original songs\, puppets(propably with confetti cannons)\, and
  a whole lotta laughter and fun! See you there!\n\n***IMPORTANT INFO/DATES
 ***\nJuly 13th\, 14th &amp\; 15th 7:00-8:30PM\n\n-------*Register Before J
 une 29th to guarantee tshirt* -----\n\nRegister Here\n*Ages 3 years old 
 through just finished 5th grade are welcome(2 and half welcome also with p
 arent/guardian accompaniment)*\n***Please fill out 1 form per child***
LAST-MODIFIED:20260413T134314
LOCATION:Worship Center
SUMMARY:Dive VBS
URL;VALUE=URI:https://www.whiterockfellowship.com/events/dive-vbs/2026-07-1
 3
ATTACH;FILENAME=VBS-Web.png;FMTTYPE=image/png:https://dq5pwpg1q8ru0.cloudfr
 ont.net/2026/04/13/17/43/14/344c9b52-d147-4b7b-8fb3-902e056198d2/VBS-Web.p
 ng
END:VEVENT
END:VCALENDAR
